BEGIN:VCALENDAR
VERSION:2.0
PRODID:-//wp-events-plugin.com//7.2.3.1//EN
TZID:Europe/Berlin
X-WR-TIMEZONE:Europe/Berlin
BEGIN:VEVENT
UID:1552@unsere-zeit.de
DTSTART;TZID=Europe/Berlin:20260423T180000
DTEND;TZID=Europe/Berlin:20260423T200000
DTSTAMP:20260414T072638Z
URL:https://www.unsere-zeit.de/termine/austausch-betrieb-gewerkschaft-2/
SUMMARY:Austausch Betrieb & Gewerkschaft
DESCRIPTION:Gemeinsamer Austausch mit der SDAJ (mitgliederoffen)
CATEGORIES:Diskussion
LOCATION:Dortmund\, Z - Zentrum für Kultur und Politik\, Oesterholzstraße
  27\, Dortmund\, 44145\, Deutschland
X-APPLE-STRUCTURED-LOCATION;VALUE=URI;X-ADDRESS=Oesterholzstraße 27\, Dort
 mund\, 44145\, Deutschland;X-APPLE-RADIUS=100;X-TITLE=Dortmund\, Z - Zentr
 um für Kultur und Politik:geo:0,0
END:VEVENT
BEGIN:VTIMEZONE
TZID:Europe/Berlin
X-LIC-LOCATION:Europe/Berlin
BEGIN:DAYLIGHT
DTSTART:20260329T030000
TZOFFSETFROM:+0100
TZOFFSETTO:+0200
TZNAME:CEST
END:DAYLIGHT
END:VTIMEZONE
END:VCALENDAR