BEGIN:VCALENDAR
VERSION:2.0
PRODID:-//wp-events-plugin.com//7.2.3.1//EN
TZID:Europe/Berlin
X-WR-TIMEZONE:Europe/Berlin
BEGIN:VEVENT
UID:1534@unsere-zeit.de
DTSTART;TZID=Europe/Berlin:20260423T190000
DTEND;TZID=Europe/Berlin:20260423T213000
DTSTAMP:20260326T123737Z
URL:https://www.unsere-zeit.de/termine/diskussion-vortrag-juedinnen-und-ju
 den-in-der-internationalen-linken/
SUMMARY:Diskussion/Vortrag: Jüdinnen und Juden in der internationalen Link
 en
DESCRIPTION:Angesichts der polarisierten Debatten um Israel und den Nahen O
 sten mag es schwerfallen\, sich dies vorzustellen: Doch seit dem 19. Jahrh
 undert bis weit in das zwanzigste Jahrhundert hinein bestand eine Allianz 
 zwischen beträchtlichen Teilen der jüdischen Emanzipationsbewegungen und
  der sozialistischen und Arbeiter*innenbewegung. Dies galt für das Russis
 che Reich und die frühe Sowjetunion ebenso wie für Polen\, Britannien\, 
 die USA und Südafrika\, wo Jüdinnen und Juden weit überproportional auf
  Seiten der im Apartheid-System unterdrückten Schwarzen standen. Auch die
  kommunistischen\, gewerkschaftlichen und antikolonialen Bewegungen in Tun
 esien und Marokko hatten zahlreiche jüdische Repräsentant*innen. Jüdinn
 en und Juden waren überproportional stark in den sozialistischen\, kommun
 istischen\, anarchistischen und gewerkschaftlichen Strömungen und Organis
 ationen vertreten.\n\nDiese gemeinsame Geschichte wieder stärker in Erinn
 erung zu rufen\, ist Anliegen der Reihe „Jüdinnen und Juden in der inte
 rnationalen Linken“\, die Riccardo Altieri\, Bernd Hüttner und Florian 
 Weis für die Rosa-Luxemburg-Stiftung seit 2021 herausgeben.\n\nMehrere Be
 iträge in den bisher fünf erschienenen Bänden befassen sich auch mit Fr
 ankfurter Persönlichkeiten und Strömungen\, so mit Jakob Moneta (Band 1)
 \, Emil Carlebach (Band 5)\, der Frankfurter Schule (Band 5)\, der Jüdisc
 hen Gruppe in Frankfurt (Band 1) und mit Max Diamant (Band 2). Über diese
  jüdisch-sozialistischen\, oft auch gewerkschaftlich aktiven Persönlichk
 eiten wollen wir mit Dalia Moneta\, der Tochter Jakob Monetas\, sowie den 
 Historiker:innen Yves Müller (zu Emil Carlebach) und mit Zarin Aschrafi (
 zu „Juden – Linke –Deutsche. Eine Beziehungsgeschichte nach dem Holo
 caust“ sprechen.\n\nMit:\n\n 	Peter Feldmann (Co-Moderation\, Sprecher R
 osa-Luxemburg-Club Frankfurt am Main\, Oberbürgermeister a. D.)\n 	Dr. Fl
 orian Weis (Co-Moderation\, RLS\, Co-Herausgeber der Reihe „Jüdinnen un
 d Juden in der internationalen Linken“)\n 	Dalia Moneta (ehem. Ltg. Sozi
 alabteilung\, Jüdische Gemeinde Frankfurt am Main\, Tochter von Jakob Mon
 eta) (angefragt)\n 	Dr. Yves Müller (Historiker\, Mitglied im Gesprächsk
 reis Geschichte der Rosa-Luxemburg-Stiftung und Mitbegründer des Zeithist
 orischen Arbeitskreises Extreme Rechte) zu Emil Carlebach\n 	Zarin Aschraf
 i (Historikerin aus Leipzig\, „Von Frankfurt nach Babylon. Eine Erfahrun
 gsgeschichte jüdischer Intellektueller in der Bundesrepublik“\, Mitglie
 d der Historischen Kommission der Friedrich-Ebert-Stiftung\n
CATEGORIES:Diskussion
LOCATION:Frankfurt am Main\, Gewerkschaftshaus\, Wilhelm-Leuschner-Straße 
 69-77\, Frankfurt am Main\, 60329\, Deutschland
X-APPLE-STRUCTURED-LOCATION;VALUE=URI;X-ADDRESS=Wilhelm-Leuschner-Straße 6
 9-77\, Frankfurt am Main\, 60329\, Deutschland;X-APPLE-RADIUS=100;X-TITLE=
 Frankfurt am Main\, Gewerkschaftshaus:geo:0,0
END:VEVENT
BEGIN:VTIMEZONE
TZID:Europe/Berlin
X-LIC-LOCATION:Europe/Berlin
BEGIN:DAYLIGHT
DTSTART:20260329T030000
TZOFFSETFROM:+0100
TZOFFSETTO:+0200
TZNAME:CEST
END:DAYLIGHT
END:VTIMEZONE
END:VCALENDAR