BEGIN:VCALENDAR
VERSION:2.0
PRODID:-//wp-events-plugin.com//7.2.3.1//EN
TZID:Europe/Berlin
X-WR-TIMEZONE:Europe/Berlin
BEGIN:VEVENT
UID:1497@unsere-zeit.de
DTSTART;TZID=Europe/Berlin:20251128T190000
DTEND;TZID=Europe/Berlin:20251128T220000
DTSTAMP:20251121T120118Z
URL:https://www.unsere-zeit.de/termine/rassismus-kolonialismus-migration-u
 nd-klassenkampf-mit-bafta-sarbo/
SUMMARY:„Rassismus – Kolonialismus\, Migration und Klassenkampf“ mit 
 Bafta Sarbo
DESCRIPTION:Wie hängt Rassismus mit der kapitalistischen Produktionsweise 
 zusammen\, wie äußert er sich in den unterschiedlichen Klassen\, und wem
  nützt seine Existenz? Welche Auswirkungen hat Rassismus auf die Bereitsc
 haft der Arbeiter\, den Klassenkampf für ihre Interessen zu führen – f
 ür Frieden und sozialen Fortschritt?\n\nDiesen und anderen Fragen wird si
 ch Bafta Sarbo widmen. Sie ist Sozialwissenschaftlerin und Autorin\, u. a.
  Herausgeberin (zusammen mit Eleonora Roldán Mendívil) der Textsammlung 
 „Die Diversität der Ausbeutung – Zur Kritik des herrschenden Antirass
 ismus“ (Karl Dietz Verlag Berlin).\n\nWeitere Infos: stuttgart.dkp.de
CATEGORIES:Bildungsabend,Infoveranstaltung
LOCATION:Stuttgart\, Linkes Zentrum Lilo Herrmann\, Böblinger Straße 105\
 , Stuttgart\, 70199\, Deutschland
X-APPLE-STRUCTURED-LOCATION;VALUE=URI;X-ADDRESS=Böblinger Straße 105\, St
 uttgart\, 70199\, Deutschland;X-APPLE-RADIUS=100;X-TITLE=Stuttgart\, Linke
 s Zentrum Lilo Herrmann:geo:0,0
END:VEVENT
BEGIN:VTIMEZONE
TZID:Europe/Berlin
X-LIC-LOCATION:Europe/Berlin
BEGIN:STANDARD
DTSTART:20251026T020000
TZOFFSETFROM:+0200
TZOFFSETTO:+0100
TZNAME:CET
END:STANDARD
END:VTIMEZONE
END:VCALENDAR